BEGIN:VCALENDAR
VERSION:2.0
PRODID:-//Seventh Town Historical Society - ECPv6.15.20//NONSGML v1.0//EN
CALSCALE:GREGORIAN
METHOD:PUBLISH
X-ORIGINAL-URL:https://seventhtownresearch.com
X-WR-CALDESC:Events for Seventh Town Historical Society
REFRESH-INTERVAL;VALUE=DURATION:PT1H
X-Robots-Tag:noindex
X-PUBLISHED-TTL:PT1H
BEGIN:VTIMEZONE
TZID:America/Toronto
BEGIN:DAYLIGHT
TZOFFSETFROM:-0500
TZOFFSETTO:-0400
TZNAME:EDT
DTSTART:20240310T070000
END:DAYLIGHT
BEGIN:STANDARD
TZOFFSETFROM:-0400
TZOFFSETTO:-0500
TZNAME:EST
DTSTART:20241103T060000
END:STANDARD
BEGIN:DAYLIGHT
TZOFFSETFROM:-0500
TZOFFSETTO:-0400
TZNAME:EDT
DTSTART:20250309T070000
END:DAYLIGHT
BEGIN:STANDARD
TZOFFSETFROM:-0400
TZOFFSETTO:-0500
TZNAME:EST
DTSTART:20251102T060000
END:STANDARD
BEGIN:DAYLIGHT
TZOFFSETFROM:-0500
TZOFFSETTO:-0400
TZNAME:EDT
DTSTART:20260308T070000
END:DAYLIGHT
BEGIN:STANDARD
TZOFFSETFROM:-0400
TZOFFSETTO:-0500
TZNAME:EST
DTSTART:20261101T060000
END:STANDARD
END:VTIMEZONE
BEGIN:VEVENT
DTSTART;TZID=America/Toronto:20250313T100000
DTEND;TZID=America/Toronto:20250313T113000
DTSTAMP:20260423T171148
CREATED:20250306T123322Z
LAST-MODIFIED:20250306T124321Z
UID:2399-1741860000-1741865400@seventhtownresearch.com
SUMMARY:March Break - Time Travel in PEC
DESCRIPTION:On Thursday\, March 13th\, visit the Ameliasburgh Heritage Hub for a full morning of March Break Fun as you travel back in time! \nFIRST – Start your visit at 10 am at the Marilyn Adams Genealogical Research Centre and travel through time in Prince Edward County with author\, Lynne Grist\, as she shares her new book\, “Treasure at Long Point”. Hear about the continuing adventures of Bella and Joey Wilkins as they travel back to the days of the sailing ships at Long Point and face the power of the Marysburgh Vortex! Geared to young readers\, but enjoyable by all\, learn about using your own backyard as inspiration to explore the past! \nNEXT – Pack a picnic lunch or snacks and head across the road to the big stone church at the Ameliasburgh Heritage Village to enjoy the second event in the Heritage Hub.\nExplore the museum and enjoy a variety of Maple themed activities and crafts! \nBoth are family friendly events for a fun heritage themed morning! *While these are free events\, donations are always welcome. \nLOCATION:\nBoth locations are across the road from each other on County Road 19 in Ameliasburgh.\n10:00 am ~ 528 County Road 19\, Ameliasburgh (MAGRC)\n11:30 am ~ 517 County Road 19\, Ameliasburgh (Church at Ameliasburgh Heritage Village)\n*Parking is available at both locations and you can walk across the road for your events!\nSee less
URL:https://seventhtownresearch.com/event/march-break-time-travel-in-pec/
LOCATION:Marilyn Adams Genealogical Research Centre\, 528 County Road 19\, Ameliasburgh\, ON\, K0K1A0\, Canada
ATTACH;FMTTYPE=image/jpeg:https://seventhtownresearch.com/wp-content/uploads/475754665_648806614373910_1102111646676287404_n.jpg
ORGANIZER;CN="Ameliasburgh Heritage Hub":MAILTO:ahh@seventhtownresearch.com
END:VEVENT
END:VCALENDAR