BEGIN:VCALENDAR
VERSION:2.0
PRODID:-//Seventh Town Historical Society - ECPv6.15.20//NONSGML v1.0//EN
CALSCALE:GREGORIAN
METHOD:PUBLISH
X-ORIGINAL-URL:https://seventhtownresearch.com
X-WR-CALDESC:Events for Seventh Town Historical Society
REFRESH-INTERVAL;VALUE=DURATION:PT1H
X-Robots-Tag:noindex
X-PUBLISHED-TTL:PT1H
BEGIN:VTIMEZONE
TZID:America/Toronto
BEGIN:DAYLIGHT
TZOFFSETFROM:-0500
TZOFFSETTO:-0400
TZNAME:EDT
DTSTART:20250309T070000
END:DAYLIGHT
BEGIN:STANDARD
TZOFFSETFROM:-0400
TZOFFSETTO:-0500
TZNAME:EST
DTSTART:20251102T060000
END:STANDARD
BEGIN:DAYLIGHT
TZOFFSETFROM:-0500
TZOFFSETTO:-0400
TZNAME:EDT
DTSTART:20260308T070000
END:DAYLIGHT
BEGIN:STANDARD
TZOFFSETFROM:-0400
TZOFFSETTO:-0500
TZNAME:EST
DTSTART:20261101T060000
END:STANDARD
BEGIN:DAYLIGHT
TZOFFSETFROM:-0500
TZOFFSETTO:-0400
TZNAME:EDT
DTSTART:20270314T070000
END:DAYLIGHT
BEGIN:STANDARD
TZOFFSETFROM:-0400
TZOFFSETTO:-0500
TZNAME:EST
DTSTART:20271107T060000
END:STANDARD
END:VTIMEZONE
BEGIN:VEVENT
DTSTART;TZID=America/Toronto:20260224T100000
DTEND;TZID=America/Toronto:20260224T150000
DTSTAMP:20260422T235220
CREATED:20260122T194729Z
LAST-MODIFIED:20260122T194729Z
UID:2972-1771927200-1771945200@seventhtownresearch.com
SUMMARY:Trace Your Roots Tuesdays | Flashback February
DESCRIPTION:Tuesdays in February at MAGRC! [if weather is inclement\, we will reschedule to Thursday] \nJoin us EVERY TUESDAY IN FEBRUARY at the Marilyn Adams Genealogical Research Centre for one – or both – of our public drop-in events\, with knowledgeable volunteers on hand to help you preserve and research your family history. \n✨ SCANNING PARTIES | 10 AM – 12 PM \nHave a box of old photos of people and places in PEC and not sure what to do with them? Bring them to a Scanning Party at MAGRC!\nThis informal community event lets you have your photographs scanned for preservation while you keep the originals. \n📸 Bring photos of Prince Edward County families and local landmarks\n• Photos must be pre-1950\n• Names must be known or pre-written\n• Volunteers will scan your photos and record your memories of names and places\n• Stay while they’re scanned or leave them for Tuesday or Thursday pickup\n• Bring a USB or purchase one on-site \nMAGRC will keep a digital copy for our local family history collection. If you no longer wish to keep the originals\, they can be safely preserved in our archives for future generations.❤ \n☕🔎 SIP & SEARCH | 1 PM – 3 PM \nBring your favourite mug and enjoy coffee or tea while researching your family history!\nThe research room will be buzzing with volunteers and fellow researchers ready to help and share in the excitement of new discoveries! \n🥪 Want to stay all day? Bring a lunch and spend the full day with us.\n💛 Admission by donation | USBs available for purchase on-site\n📍 528 County Road 19\, Ameliasburgh PEC \nCome for an hour – or stay all day. We’d love to welcome you!
URL:https://seventhtownresearch.com/event/trace-your-roots-tuesdays-flashback-february-4/
LOCATION:Marilyn Adams Genealogical Research Centre\, 528 County Road 19\, Ameliasburgh\, ON\, K0K1A0\, Canada
CATEGORIES:Event
ATTACH;FMTTYPE=image/webp:https://seventhtownresearch.com/wp-content/uploads/2026FF.webp
ORGANIZER;CN="Seventh Town Historical Society":MAILTO:info@seventhtownresearch.com
END:VEVENT
BEGIN:VEVENT
DTSTART;TZID=America/Toronto:20260217T100000
DTEND;TZID=America/Toronto:20260217T150000
DTSTAMP:20260422T235220
CREATED:20260122T194625Z
LAST-MODIFIED:20260122T194625Z
UID:2970-1771322400-1771340400@seventhtownresearch.com
SUMMARY:Trace Your Roots Tuesdays | Flashback February
DESCRIPTION:Tuesdays in February at MAGRC! [if weather is inclement\, we will reschedule to Thursday] \nJoin us EVERY TUESDAY IN FEBRUARY at the Marilyn Adams Genealogical Research Centre for one – or both – of our public drop-in events\, with knowledgeable volunteers on hand to help you preserve and research your family history. \n✨ SCANNING PARTIES | 10 AM – 12 PM \nHave a box of old photos of people and places in PEC and not sure what to do with them? Bring them to a Scanning Party at MAGRC!\nThis informal community event lets you have your photographs scanned for preservation while you keep the originals. \n📸 Bring photos of Prince Edward County families and local landmarks\n• Photos must be pre-1950\n• Names must be known or pre-written\n• Volunteers will scan your photos and record your memories of names and places\n• Stay while they’re scanned or leave them for Tuesday or Thursday pickup\n• Bring a USB or purchase one on-site \nMAGRC will keep a digital copy for our local family history collection. If you no longer wish to keep the originals\, they can be safely preserved in our archives for future generations.❤ \n☕🔎 SIP & SEARCH | 1 PM – 3 PM \nBring your favourite mug and enjoy coffee or tea while researching your family history!\nThe research room will be buzzing with volunteers and fellow researchers ready to help and share in the excitement of new discoveries! \n🥪 Want to stay all day? Bring a lunch and spend the full day with us.\n💛 Admission by donation | USBs available for purchase on-site\n📍 528 County Road 19\, Ameliasburgh PEC \nCome for an hour – or stay all day. We’d love to welcome you!
URL:https://seventhtownresearch.com/event/trace-your-roots-tuesdays-flashback-february-3/
LOCATION:Marilyn Adams Genealogical Research Centre\, 528 County Road 19\, Ameliasburgh\, ON\, K0K1A0\, Canada
CATEGORIES:Event
ATTACH;FMTTYPE=image/webp:https://seventhtownresearch.com/wp-content/uploads/2026FF.webp
ORGANIZER;CN="Seventh Town Historical Society":MAILTO:info@seventhtownresearch.com
END:VEVENT
BEGIN:VEVENT
DTSTART;TZID=America/Toronto:20260210T100000
DTEND;TZID=America/Toronto:20260210T150000
DTSTAMP:20260422T235220
CREATED:20260122T194327Z
LAST-MODIFIED:20260122T194440Z
UID:2965-1770717600-1770735600@seventhtownresearch.com
SUMMARY:Trace Your Roots Tuesdays| Flashback February
DESCRIPTION:Tuesdays in February at MAGRC! [if inclement weather will be rescheduled to Thursday] \nJoin us EVERY TUESDAY IN FEBRUARY at the Marilyn Adams Genealogical Research Centre for one – or both – of our public drop-in events\, with knowledgeable volunteers on hand to help you preserve and research your family history. \n✨ SCANNING PARTIES | 10 AM – 12 PM \nHave a box of old photos of people and places in PEC and not sure what to do with them? Bring them to a Scanning Party at MAGRC!\nThis informal community event lets you have your photographs scanned for preservation while you keep the originals. \n📸 Bring photos of Prince Edward County families and local landmarks\n• Photos must be pre-1950\n• Names must be known or pre-written\n• Volunteers will scan your photos and record your memories of names and places\n• Stay while they’re scanned or leave them for Tuesday or Thursday pickup\n• Bring a USB or purchase one on-site \nMAGRC will keep a digital copy for our local family history collection. If you no longer wish to keep the originals\, they can be safely preserved in our archives for future generations.❤ \n☕🔎 SIP & SEARCH | 1 PM – 3 PM \nBring your favourite mug and enjoy coffee or tea while researching your family history!\nThe research room will be buzzing with volunteers and fellow researchers ready to help and share in the excitement of new discoveries! \n🥪 Want to stay all day? Bring a lunch and spend the full day with us.\n💛 Admission by donation | USBs available for purchase on-site\n📍 528 County Road 19\, Ameliasburgh PEC \nCome for an hour – or stay all day. We’d love to welcome you!
URL:https://seventhtownresearch.com/event/trace-your-roots-flashback-february/
LOCATION:Marilyn Adams Genealogical Research Centre\, 528 County Road 19\, Ameliasburgh\, ON\, K0K1A0\, Canada
CATEGORIES:Event
ATTACH;FMTTYPE=image/webp:https://seventhtownresearch.com/wp-content/uploads/2026FF.webp
ORGANIZER;CN="Seventh Town Historical Society":MAILTO:info@seventhtownresearch.com
END:VEVENT
BEGIN:VEVENT
DTSTART;TZID=America/Toronto:20260203T100000
DTEND;TZID=America/Toronto:20260203T150000
DTSTAMP:20260422T235220
CREATED:20260122T194130Z
LAST-MODIFIED:20260122T194358Z
UID:2961-1770112800-1770130800@seventhtownresearch.com
SUMMARY:Trace your roots Tuesdays | Flashback February
DESCRIPTION:Tuesdays in February at MAGRC! [if weather is inclement\, we will reschedule to Thursday] \nJoin us EVERY TUESDAY IN FEBRUARY at the Marilyn Adams Genealogical Research Centre for one – or both – of our public drop-in events\, with knowledgeable volunteers on hand to help you preserve and research your family history. \n✨ SCANNING PARTIES | 10 AM – 12 PM \nHave a box of old photos of people and places in PEC and not sure what to do with them? Bring them to a Scanning Party at MAGRC!\nThis informal community event lets you have your photographs scanned for preservation while you keep the originals. \n📸 Bring photos of Prince Edward County families and local landmarks\n• Photos must be pre-1950\n• Names must be known or pre-written\n• Volunteers will scan your photos and record your memories of names and places\n• Stay while they’re scanned or leave them for Tuesday or Thursday pickup\n• Bring a USB or purchase one on-site \nMAGRC will keep a digital copy for our local family history collection. If you no longer wish to keep the originals\, they can be safely preserved in our archives for future generations.❤ \n☕🔎 SIP & SEARCH | 1 PM – 3 PM \nBring your favourite mug and enjoy coffee or tea while researching your family history!\nThe research room will be buzzing with volunteers and fellow researchers ready to help and share in the excitement of new discoveries! \n🥪 Want to stay all day? Bring a lunch and spend the full day with us.\n💛 Admission by donation | USBs available for purchase on-site\n📍 528 County Road 19\, Ameliasburgh PEC \nCome for an hour – or stay all day. We’d love to welcome you!
URL:https://seventhtownresearch.com/event/trace-your-roots-tuesdays-flashback-february/
LOCATION:Marilyn Adams Genealogical Research Centre\, 528 County Road 19\, Ameliasburgh\, ON\, K0K1A0\, Canada
CATEGORIES:Event
ATTACH;FMTTYPE=image/webp:https://seventhtownresearch.com/wp-content/uploads/2026FF.webp
ORGANIZER;CN="Seventh Town Historical Society":MAILTO:info@seventhtownresearch.com
END:VEVENT
END:VCALENDAR